BEGIN:VCALENDAR
VERSION:2.0
PRODID:-//wp-events-plugin.com//7.0.5//EN
TZID:Europe/Rome
X-WR-TIMEZONE:Europe/Rome
BEGIN:VEVENT
UID:0-27@compagniadellavela.org
DTSTART;TZID=Europe/Rome:20250308T080000
DTEND;TZID=Europe/Rome:20250309T160000
DTSTAMP:20250307T155035Z
URL:https://www.compagniadellavela.org/events/zonale-optimist/
SUMMARY:ZONALE OPTIMIST
DESCRIPTION:BANDO ZONALE OPTIMIST\n\nPAGINA DELLE ISCRIZIONI\n\nALBO UFFICI
 ALE DEI COMUNICATI\n\nElenco iscritti zonale Optimist 8_9_03_25\n\nElenco 
 iscritti zonale Optimist 8_9_03_25_Divisione A\n\nElenco iscritti zonale O
 ptimist 8_9_03_25_Divisione B
ATTACH;FMTTYPE=image/jpeg:https://www.compagniadellavela.org/wp-content/up
 loads/2024/12/optimist-2.png
CATEGORIES:Regate
LOCATION:Centro Velico Ottavio Ghetti\, Lungomare Dante Alighieri\, Punta S
 abbioni\, Italia
GEO:45.439847;12.420903
X-APPLE-STRUCTURED-LOCATION;VALUE=URI;X-ADDRESS=Lungomare Dante Alighieri\,
  Punta Sabbioni\, Italia;X-APPLE-RADIUS=100;X-TITLE=Centro Velico Ottavio 
 Ghetti:geo:45.439847,12.420903
END:VEVENT
BEGIN:VTIMEZONE
TZID:Europe/Rome
X-LIC-LOCATION:Europe/Rome
BEGIN:STANDARD
DTSTART:20241027T020000
TZOFFSETFROM:+0200
TZOFFSETTO:+0100
TZNAME:CET
END:STANDARD
END:VTIMEZONE
END:VCALENDAR